BEGIN:VCALENDAR
VERSION:2.0
PRODID:-//STAR Library Network - ECPv6.15.17//NONSGML v1.0//EN
CALSCALE:GREGORIAN
METHOD:PUBLISH
X-ORIGINAL-URL:https://www.starnetlibraries.org
X-WR-CALDESC:Events for STAR Library Network
REFRESH-INTERVAL;VALUE=DURATION:PT1H
X-Robots-Tag:noindex
X-PUBLISHED-TTL:PT1H
BEGIN:VTIMEZONE
TZID:UTC
BEGIN:STANDARD
TZOFFSETFROM:+0000
TZOFFSETTO:+0000
TZNAME:UTC
DTSTART:20170101T000000
END:STANDARD
END:VTIMEZONE
BEGIN:VEVENT
DTSTART;VALUE=DATE:20180505
DTEND;VALUE=DATE:20180506
DTSTAMP:20260419T221553
CREATED:20201217T231145Z
LAST-MODIFIED:20210128T101033Z
UID:3763-1525478400-1525564799@www.starnetlibraries.org
SUMMARY:Mars InSight Lander
DESCRIPTION:Visit Our Event Campaign Page\n  \nInvestigating the Red Planet’s Interior Structure\nThe Mars Insight Lander touched down on Mars at around noon Pacific (3 p.m. Eastern) on Nov. 26\, 2018. The lander plunged through the thin Martian atmosphere\, heatshield first\, and use a parachute to slow down. Then\, it fired its retro rockets to slowly descend to the surface of Mars\, and land on the smooth plains of Elysium Planitia \nInSight\, short for Interior Exploration using Seismic Investigations\, Geodesy and Heat Transport\, is a Mars lander designed to give the Red Planet its first thorough checkup since it formed 4.5 billion years ago. It is the first outer space robotic explorer to study in-depth the “inner space” of Mars: its crust\, mantle\, and core. \nStudying Mars’ interior structure answers key questions about the early formation of rocky planets in our inner solar system – Mercury\, Venus\, Earth\, and Mars – more than 4 billion years ago\, as well as rocky exoplanets. InSight also measures tectonic activity and meteorite impacts on Mars today.
URL:https://www.starnetlibraries.org/event/mars-insight-lander/
CATEGORIES:NASA Events,Past Events
ATTACH;FMTTYPE=image/jpeg:https://www.starnetlibraries.org/2020/wp-content/uploads/2020/12/insight-mars-lander-launch2.jpg
END:VEVENT
END:VCALENDAR