BEGIN:VCALENDAR
VERSION:2.0
PRODID:-//STAR Library Network - ECPv6.15.17//NONSGML v1.0//EN
CALSCALE:GREGORIAN
METHOD:PUBLISH
X-WR-CALNAME:STAR Library Network
X-ORIGINAL-URL:https://www.starnetlibraries.org
X-WR-CALDESC:Events for STAR Library Network
REFRESH-INTERVAL;VALUE=DURATION:PT1H
X-Robots-Tag:noindex
X-PUBLISHED-TTL:PT1H
BEGIN:VTIMEZONE
TZID:UTC
BEGIN:STANDARD
TZOFFSETFROM:+0000
TZOFFSETTO:+0000
TZNAME:UTC
DTSTART:20190101T000000
END:STANDARD
END:VTIMEZONE
BEGIN:VEVENT
DTSTART;VALUE=DATE:20200624
DTEND;VALUE=DATE:20200627
DTSTAMP:20260419T203317
CREATED:20201021T031101Z
LAST-MODIFIED:20201021T032339Z
UID:2294-1592956800-1593215999@www.starnetlibraries.org
SUMMARY:2020 ALA Virtual Conference
DESCRIPTION:Visit Conference Website For More Information\n  \n2020 Virtual Conference\nJoin ALA in this virtual space as we learn\, grow\, and most importantly\, lean on our fellow librarians and library workers while we adapt and evolve in these changing times. \nSESSION INFORMATION:\nWorking with Subject Matter Experts in YOUR Community – Promising Practices and Where to Start \nThursday\, June 25\, 2020 11:15 AM – 12:00 PM CT \nThe STAR Library Network\, as part of the Space Science Institute’s NASA@ My Library Program\, is excited to share lessons learned working with Subject Matter Experts from NASA\, universities\, schools and other organizations. What is a Subject Matter Expert? It’s someone in YOUR neighborhood who loves a particular topic. A Night Sky Ambassador who wants to share the night sky with your patrons. A geologist who wants to let you display their rock collection. Or even a retired engineer who worked on the Apollo mission and wants to chat! Learn how to take advantage of these (often free!) community resources in this session. \nThe STAR Net team will introduce its successful Community Dialogue Framework\, a tool to learn more about your community\, and the community members who want to work with you. We’ll also hear from libraries who have successfully worked with community members on programming\, and get a taste of a new virtual scientist program that you could start in your library! \nEvent Highlights: \n\neducational sessions available in an on-demand format\nnotable featured speakers\nCOVID-19 information for libraries\nlive chats with authors\nlive-streamed presentations\na virtual Exhibit Hall\nnetworking opportunities with peers via social activities
URL:https://www.starnetlibraries.org/event/2020-ala-virtual-conference/
CATEGORIES:2020 Conference Archive,Featured Conferences
ATTACH;FMTTYPE=image/jpeg:https://www.starnetlibraries.org/2020/wp-content/uploads/2020/10/2020-ala-conference.jpg
END:VEVENT
END:VCALENDAR