BEGIN:VCALENDAR
VERSION:2.0
PRODID:-//STAR Library Network - ECPv6.15.17//NONSGML v1.0//EN
CALSCALE:GREGORIAN
METHOD:PUBLISH
X-ORIGINAL-URL:https://www.starnetlibraries.org
X-WR-CALDESC:Events for STAR Library Network
REFRESH-INTERVAL;VALUE=DURATION:PT1H
X-Robots-Tag:noindex
X-PUBLISHED-TTL:PT1H
BEGIN:VTIMEZONE
TZID:UTC
BEGIN:STANDARD
TZOFFSETFROM:+0000
TZOFFSETTO:+0000
TZNAME:UTC
DTSTART:20180101T000000
END:STANDARD
END:VTIMEZONE
BEGIN:VEVENT
DTSTART;VALUE=DATE:20191114
DTEND;VALUE=DATE:20191115
DTSTAMP:20260425T212232
CREATED:20210115T060253Z
LAST-MODIFIED:20210115T060253Z
UID:4154-1573689600-1573775999@www.starnetlibraries.org
SUMMARY:Citizen Science Month (and Beyond!) at Your Library
DESCRIPTION:Watch Recorded Webinar\nView Presentation Slides\nDownload Link Bank\nCitizen Science Month (and Beyond!) at Your Library\nCitizen science can open up a world of free STEAM learning opportunities for library patrons. From identifying butterflies to measuring light pollution\, citizen science offers unique ways to engage every patron and allow them to contribute to the greater scientific community. With welcoming environments and equitable access to resources\, libraries can serve as a central hub for citizen science in their communities! The STAR Library Network (STAR Net) is excited to showcase impactful STEAM learning opportunities that put a focus on the Earth\, such as citizen science\, in 2020. \nWith support from the National Library of Medicine and based on feedback from the Citizen Science Association’s “Citizen Science Day” working group\, SciStarter and Arizona State University are pleased to announce “Citizen Science Month” (April 2020)! Watch this webinar to discover how you can access many free resources to help introduce\, shape\, or support citizen science in your library.
URL:https://www.starnetlibraries.org/event/citizen-science-month-and-beyond-at-your-library/
CATEGORIES:2019 Webinar Archive
ATTACH;FMTTYPE=image/jpeg:https://www.starnetlibraries.org/2020/wp-content/uploads/2021/01/citizen-science-month-2019.jpg
END:VEVENT
BEGIN:VEVENT
DTSTART;VALUE=DATE:20191120
DTEND;VALUE=DATE:20191121
DTSTAMP:20260425T212232
CREATED:20210115T055640Z
LAST-MODIFIED:20210115T055640Z
UID:4151-1574208000-1574294399@www.starnetlibraries.org
SUMMARY:Imagine Your Story… with a STEAM Twist!
DESCRIPTION:Watch Recorded Webinar\nView Presentation Slides\nDownload Link Bank\nImagine Your Story… with a STEAM Twist!\nIt’s never too early to start thinking about next summer! When designing your programming for the 2020 theme\, “Imagine Your Story\,” remember to look up at the night sky for inspiration. Join the STAR Net team and Luke Kralik\, Organizational Coordinator for CSLP\, to learn all about this year’s theme and exciting\, hands-on STEAM activities that will help you bring it to life at your library. We’ll discuss programming ideas\, useful resources\, and tips for engaging your community!
URL:https://www.starnetlibraries.org/event/imagine-your-story-with-a-steam-twist/
CATEGORIES:2019 Webinar Archive
ATTACH;FMTTYPE=image/jpeg:https://www.starnetlibraries.org/2020/wp-content/uploads/2021/01/imagine-your-story.jpg
END:VEVENT
BEGIN:VEVENT
DTSTART;VALUE=DATE:20191122
DTEND;VALUE=DATE:20191123
DTSTAMP:20260425T212232
CREATED:20210115T054748Z
LAST-MODIFIED:20210115T054748Z
UID:4148-1574380800-1574467199@www.starnetlibraries.org
SUMMARY:Playful Hands-on STEM Learning in UK Libraries
DESCRIPTION:Watch Recorded Webinar\nView Presentation Slides\nChat\nPlayful Hands-on STEM Learning in UK Libraries\nThere is a tremendous need to provide young people with STEM skills for the future\, but in what ways are libraries contributing? This FREE webinar will demonstrate a few ideas from across the UK for facilitating playful STEM learning in libraries through afterschool activities and family events. Share your favorite resources for increasing your own skills and for engaging library customers. \nPresenter Keliann LaConte is currently based at the University of Edinburgh as a Fulbright Global Scholar to gather perspectives from UK libraries around STEM-related learning and share resources broadly. As a project leader within the STAR Library Network\, she has worked with library staff in the U.S. for over a decade to develop STEM activities and facilitate training.
URL:https://www.starnetlibraries.org/event/playful-hands-on-stem-learning-in-uk-libraries/
CATEGORIES:2019 Webinar Archive
ATTACH;FMTTYPE=image/jpeg:https://www.starnetlibraries.org/2020/wp-content/uploads/2021/01/playful-handson-stem-learning.jpg
END:VEVENT
BEGIN:VEVENT
DTSTART;VALUE=DATE:20191212
DTEND;VALUE=DATE:20191213
DTSTAMP:20260425T212232
CREATED:20210115T052125Z
LAST-MODIFIED:20210115T052125Z
UID:4145-1576108800-1576195199@www.starnetlibraries.org
SUMMARY:How Public Libraries can Bridge the Middle School STEM Gap
DESCRIPTION:Watch Recorded Webinar\nHow Public Libraries can Bridge the Middle School STEM Gap\nNote: This webinar was hosted by Urban Libraries Council (ULC) \nSTEM-related jobs are the fastest growing segment in our economy. Yet\, many youth lack access to quality STEM programming and exposure to STEM career opportunities\, limiting their opportunity to learn\, explore and prepare for life. With support from the Institute for Museum and Library Services\, ULC launched the Partners for Middle School STEM initiative to help public libraries build innovative STEM programs and partnerships to reach underserved youth. Join us for a webinar on December 12 to hear from the libraries in this initiative’s Learning Cohort\, discover general lessons learned from this project and pick up tips for enhancing your library’s STEM programming. \nPresenters\nJennifer Blenkle\, Director of Strategic Initiatives\, Urban Libraries Council\nBrooks Mitchell\, Education Coordinator\, Space Science Institute\nKelsey Hughes\, Adult and Teen Services Specialist\, Prince George’s Memorial Library System\nKelsey Williamson\, Children’s Department Manager\, Pioneer Library System\nIsaac Huffman\, Library Director\, Mount Vernon City Library
URL:https://www.starnetlibraries.org/event/how-public-libraries-can-bridge-the-middle-school-stem-gap/
CATEGORIES:2019 Webinar Archive
ATTACH;FMTTYPE=image/jpeg:https://www.starnetlibraries.org/2020/wp-content/uploads/2021/01/ulc-webinar-middle-school-stem.jpg
END:VEVENT
BEGIN:VEVENT
DTSTART;VALUE=DATE:20191217
DTEND;VALUE=DATE:20191218
DTSTAMP:20260425T212232
CREATED:20210115T050048Z
LAST-MODIFIED:20210115T050824Z
UID:4138-1576540800-1576627199@www.starnetlibraries.org
SUMMARY:Bringing Inspiration to Multiple Generations: Apollo in Real Time
DESCRIPTION:Watch Recorded Webinar\nBringing Inspiration to Multiple Generations: Apollo in Real Time\nNote: This webinar was hosted by NASA’s Johnson Space Center \nJoin us for this FREE NASA Astromaterials Research and Exploration Science (ARES) interactive webinar targeting informal educators (librarians\, museum staff\, Solar System Ambassadors\, etc.) as they interact with Ben Feist\, a Data Visualization Software Engineer working with our Astromaterials Research and Exploration Science (ARES) Division at the Johnson Space Center in Houston\, TX. Ben will share information about his career path to NASA as well as information about bringing inspiration to multiple generations through his work to bring together pictures\, videos\, transcripts and more to enable all of us to experience Apollo in Real Time. The presentation will last approximately 40 minutes followed by an optional ~15-20 minutes of Q&A.
URL:https://www.starnetlibraries.org/event/bringing-inspiration-to-multiple-generations-apollo-in-real-time/
CATEGORIES:2019 Webinar Archive
ATTACH;FMTTYPE=image/jpeg:https://www.starnetlibraries.org/2020/wp-content/uploads/2021/01/jsc-webinar-apollo-in-real-time.jpg
END:VEVENT
END:VCALENDAR