BEGIN:VCALENDAR
VERSION:2.0
PRODID:-//STAR Library Network - ECPv6.15.17//NONSGML v1.0//EN
CALSCALE:GREGORIAN
METHOD:PUBLISH
X-WR-CALNAME:STAR Library Network
X-ORIGINAL-URL:https://www.starnetlibraries.org
X-WR-CALDESC:Events for STAR Library Network
REFRESH-INTERVAL;VALUE=DURATION:PT1H
X-Robots-Tag:noindex
X-PUBLISHED-TTL:PT1H
BEGIN:VTIMEZONE
TZID:UTC
BEGIN:STANDARD
TZOFFSETFROM:+0000
TZOFFSETTO:+0000
TZNAME:UTC
DTSTART:20180101T000000
END:STANDARD
END:VTIMEZONE
BEGIN:VEVENT
DTSTART;VALUE=DATE:20190715
DTEND;VALUE=DATE:20190716
DTSTAMP:20260425T104704
CREATED:20210115T062804Z
LAST-MODIFIED:20210115T062804Z
UID:4165-1563148800-1563235199@www.starnetlibraries.org
SUMMARY:Celebrate the 50th Anniversary of the Apollo 11 Moon Landing
DESCRIPTION:Watch Recorded Webinar\nCelebrate the 50th Anniversary of the Apollo 11 Moon Landing\nWhat was the sequence of this incredible mission? Where on the Moon did they land? And how did they return safely to Earth? \nWatch a guided recreation of Apollo 11’s journey to see how this mission was executed by crew members and mission control in Houston. \nThis live OpenSpace webcast was brought to you by the STAR Library Network’s NASA@ My Library program in partnership with the American Museum of Natural History.
URL:https://www.starnetlibraries.org/event/celebrate-the-50th-anniversary-of-the-apollo-11-moon-landing/
CATEGORIES:2019 Webinar Archive
ATTACH;FMTTYPE=image/jpeg:https://www.starnetlibraries.org/2020/wp-content/uploads/2021/01/apollo-11-50th-anniversary.jpg
END:VEVENT
END:VCALENDAR