BEGIN:VCALENDAR
VERSION:2.0
PRODID:-//STAR Library Network - ECPv6.15.17//NONSGML v1.0//EN
CALSCALE:GREGORIAN
METHOD:PUBLISH
X-WR-CALNAME:STAR Library Network
X-ORIGINAL-URL:https://www.starnetlibraries.org
X-WR-CALDESC:Events for STAR Library Network
REFRESH-INTERVAL;VALUE=DURATION:PT1H
X-Robots-Tag:noindex
X-PUBLISHED-TTL:PT1H
BEGIN:VTIMEZONE
TZID:UTC
BEGIN:STANDARD
TZOFFSETFROM:+0000
TZOFFSETTO:+0000
TZNAME:UTC
DTSTART:20170101T000000
END:STANDARD
END:VTIMEZONE
BEGIN:VEVENT
DTSTART;VALUE=DATE:20180523
DTEND;VALUE=DATE:20180524
DTSTAMP:20260424T164839
CREATED:20210115T235737Z
LAST-MODIFIED:20210115T235737Z
UID:4217-1527033600-1527119999@www.starnetlibraries.org
SUMMARY:Reaching New Audiences with Community Dialogues
DESCRIPTION:Watch Recorded Webinar\nView Presentation Slides\nReaching New Audiences with Community Dialogues\nStaff at the National Center for Interactive Learning at the Space Science Institute have developed a Community Dialogue Strategy to empower public libraries to examine their existing practices\, and reach out to their community to ensure that their library is a welcoming and safe environment. This strategy was developed and tested with funds from the National Institutes of Health\, NASA and National Science Foundation as part of the STAR Library Education Network. Community Dialogues encourage libraries to ask the questions “who is missing from my library” and “who in the community would be a great partner for my library.” In this webinar\, participants will learn more about this innovative strategy\, and hear from public library staff who have made positive changes to their practice based on results from their own Dialogues.
URL:https://www.starnetlibraries.org/event/reaching-new-audiences-with-community-dialogues/
CATEGORIES:2018 Webinar Archive
ATTACH;FMTTYPE=image/jpeg:https://www.starnetlibraries.org/2020/wp-content/uploads/2021/01/community-dialogues-1.jpg
END:VEVENT
END:VCALENDAR