BEGIN:VCALENDAR
VERSION:2.0
PRODID:-//STAR Library Network - ECPv6.15.17//NONSGML v1.0//EN
CALSCALE:GREGORIAN
METHOD:PUBLISH
X-WR-CALNAME:STAR Library Network
X-ORIGINAL-URL:https://www.starnetlibraries.org
X-WR-CALDESC:Events for STAR Library Network
REFRESH-INTERVAL;VALUE=DURATION:PT1H
X-Robots-Tag:noindex
X-PUBLISHED-TTL:PT1H
BEGIN:VTIMEZONE
TZID:UTC
BEGIN:STANDARD
TZOFFSETFROM:+0000
TZOFFSETTO:+0000
TZNAME:UTC
DTSTART:20170101T000000
END:STANDARD
END:VTIMEZONE
BEGIN:VEVENT
DTSTART;VALUE=DATE:20180517
DTEND;VALUE=DATE:20180518
DTSTAMP:20260424T152658
CREATED:20210116T013643Z
LAST-MODIFIED:20210116T013643Z
UID:4220-1526515200-1526601599@www.starnetlibraries.org
SUMMARY:The Parker Solar Probe Launch: How Will Your Library Be Involved?
DESCRIPTION:Watch Recorded Webinar\nView Presentation Slides\nThe Parker Solar Probe Launch: How Will Your Library Be Involved?\nIn the summer of 2018\, NASA will launch the Parker Solar Probe. This small\, car-sized spacecraft will travel into the Sun’s atmosphere\, within four million miles of our star’s surface. Join Space Science Institute’s Brooks Mitchell and Dr. Paul Dusenbery to learn all about NASA’s first mission to “touch” the Sun and ways that your library can be involved.
URL:https://www.starnetlibraries.org/event/the-parker-solar-probe-launch/
CATEGORIES:2018 Webinar Archive
ATTACH;FMTTYPE=image/jpeg:https://www.starnetlibraries.org/2020/wp-content/uploads/2021/01/parker-solar-probe-800x600-1.jpg
END:VEVENT
BEGIN:VEVENT
DTSTART;VALUE=DATE:20180523
DTEND;VALUE=DATE:20180524
DTSTAMP:20260424T152658
CREATED:20210115T235737Z
LAST-MODIFIED:20210115T235737Z
UID:4217-1527033600-1527119999@www.starnetlibraries.org
SUMMARY:Reaching New Audiences with Community Dialogues
DESCRIPTION:Watch Recorded Webinar\nView Presentation Slides\nReaching New Audiences with Community Dialogues\nStaff at the National Center for Interactive Learning at the Space Science Institute have developed a Community Dialogue Strategy to empower public libraries to examine their existing practices\, and reach out to their community to ensure that their library is a welcoming and safe environment. This strategy was developed and tested with funds from the National Institutes of Health\, NASA and National Science Foundation as part of the STAR Library Education Network. Community Dialogues encourage libraries to ask the questions “who is missing from my library” and “who in the community would be a great partner for my library.” In this webinar\, participants will learn more about this innovative strategy\, and hear from public library staff who have made positive changes to their practice based on results from their own Dialogues.
URL:https://www.starnetlibraries.org/event/reaching-new-audiences-with-community-dialogues/
CATEGORIES:2018 Webinar Archive
ATTACH;FMTTYPE=image/jpeg:https://www.starnetlibraries.org/2020/wp-content/uploads/2021/01/community-dialogues-1.jpg
END:VEVENT
BEGIN:VEVENT
DTSTART;VALUE=DATE:20180530
DTEND;VALUE=DATE:20180531
DTSTAMP:20260424T152658
CREATED:20210115T235247Z
LAST-MODIFIED:20210115T235247Z
UID:4214-1527638400-1527724799@www.starnetlibraries.org
SUMMARY:Libraries Helping Girls STEAM Ahead with NASA
DESCRIPTION:Watch Recorded Webinar\nView Presentation Slides\nLibraries Helping Girls STEAM Ahead with NASA\nGirls STEAM Ahead with NASA (GSAWN) initiative is again partnering with public libraries to provide NASA-themed activities for girls and their families. Part of the NASA’s Universe of Learning program\, GSAWN resources include a range of computer-based and paper-based activities\, along with exhibits and poster series. During this webinar\, you will hear about the GSAWN project\, why girl-serving programming is important and needed\, and the range of resources available to your library. There will be time for questions so we can address any concerns and best support your library efforts.
URL:https://www.starnetlibraries.org/event/libraries-helping-girls-steam-ahead-with-nasa/
CATEGORIES:2018 Webinar Archive
ATTACH;FMTTYPE=image/jpeg:https://www.starnetlibraries.org/2020/wp-content/uploads/2021/01/girls-steam-ahead-nasa.jpg
END:VEVENT
END:VCALENDAR